BEGIN:VCALENDAR
VERSION:2.0
PRODID:-//wp-events-plugin.com//7.2.3.1//EN
BEGIN:VEVENT
UID:19@deckerscreek.org
DTSTART;TZID=America/New_York:20230225T180000
DTEND;TZID=America/New_York:20230225T203000
DTSTAMP:20230214T003717Z
URL:https://deckerscreek.org/events/appalachian-voices/
SUMMARY:Appalachian Voices
DESCRIPTION:\nYou're invited to our Appalachian Voices event on Saturday\, 
 Feb. 25th at the historic Arthurdale Center Hall!\nJoin Friends of Deckers
  Creek for an evening of celebrating our Appalachian heritage\, culture\, 
 and community with food\, drinks\, and diverse Appalachian talent. Explore
  our region's relationship with the natural world through poetry readings\
 , live music\, and storytelling!\n\nWe are so looking forward to reconnect
 ing with our neighbors and friends - starting community discussions\, supp
 orting a healthier watershed\, and simply having a fun time.\n\nWe hope to
  see you there!
ATTACH;FMTTYPE=image/jpeg:https://deckerscreek.org/wp-content/uploads/2022
 /12/2023-App.-V-IG-2-3.png
END:VEVENT
BEGIN:VTIMEZONE
TZID:America/New_York
X-LIC-LOCATION:America/New_York
BEGIN:STANDARD
DTSTART:20221106T010000
TZOFFSETFROM:-0400
TZOFFSETTO:-0500
TZNAME:EST
END:STANDARD
END:VTIMEZONE
END:VCALENDAR